{
 "currentVersion": 10.91,
 "serviceDescription": "maanteekinnisasjade abikiht katastri registriosakonna tellimisel e-katastri kaardirakendusele. WMS teenus tahvel.riigimaanteed tabelile.",
 "mapName": "Layers",
 "description": "",
 "copyrightText": "",
 "supportsDynamicLayers": true,
 "layers": [
  {
   "id": 0,
   "name": "Maanteeäärsed Kinnisasjad",
   "parentLayerId": -1,
   "defaultVisibility": true,
   "subLayerIds": null,
   "minScale": 250000,
   "maxScale": 100,
   "type": "Feature Layer",
   "geometryType": "esriGeometryPolygon"
  }
 ],
 "tables": [],
 "spatialReference": {
  "wkid": 3301,
  "latestWkid": 3301
 },
 "singleFusedMapCache": true,
 "tileInfo": {
  "rows": 256,
  "cols": 256,
  "dpi": 96,
  "format": "PNG",
  "compressionQuality": 75,
  "origin": {
   "x": -34999000,
   "y": 4.5894099999999985E7
  },
  "spatialReference": {
   "wkid": 3301,
   "latestWkid": 3301
  },
  "lods": [
   {
    "level": 0,
    "resolution": 132.2919312505292,
    "scale": 500000
   },
   {
    "level": 1,
    "resolution": 66.1459656252646,
    "scale": 250000
   },
   {
    "level": 2,
    "resolution": 33.0729828126323,
    "scale": 125000
   },
   {
    "level": 3,
    "resolution": 16.933367200067735,
    "scale": 64000
   },
   {
    "level": 4,
    "resolution": 8.466683600033868,
    "scale": 32000
   }
  ]
 },
 "initialExtent": {
  "xmin": 479598.24044999445,
  "ymin": 6540793.389063802,
  "xmax": 556062.9767128003,
  "ymax": 6549855.386354463,
  "spatialReference": {
   "wkid": 3301,
   "latestWkid": 3301
  }
 },
 "fullExtent": {
  "xmin": 387327.1499999985,
  "ymin": 6531193.550000001,
  "xmax": 574905.3500000015,
  "ymax": 6578361.460000001,
  "spatialReference": {
   "wkid": 3301,
   "latestWkid": 3301
  }
 },
 "minScale": 200000,
 "maxScale": 1000,
 "units": "esriMeters",
 "supportedImageFormatTypes": "PNG32,PNG24,PNG,JPG,DIB,TIFF,EMF,PS,PDF,GIF,SVG,SVGZ,BMP",
 "documentInfo": {
  "Title": "",
  "Author": "",
  "Comments": "maanteekinnisasjade abikiht katastri registriosakonna tellimisel e-katastri kaardirakendusele. WMS teenus tahvel.riigimaanteed tabelile.",
  "Subject": "töövoog asub mkaworker01 peal \ntöövoo omanik: KatAr Mihkel Lindpere",
  "Category": "",
  "AntialiasingMode": "None",
  "TextAntialiasingMode": "Force",
  "Keywords": "EKAT"
 },
 "capabilities": "Map,Query,Data",
 "supportedQueryFormats": "JSON, geoJSON",
 "exportTilesAllowed": false,
 "referenceScale": 0,
 "supportsDatumTransformation": true,
 "maxRecordCount": 1000,
 "maxImageHeight": 4096,
 "maxImageWidth": 4096,
 "supportedExtensions": "WFSServer, WMSServer",
 "resampling": false
}
